BEGIN:VCALENDAR
VERSION:2.0
PRODID:-//James J. Hill Days - ECPv6.15.18//NONSGML v1.0//EN
CALSCALE:GREGORIAN
METHOD:PUBLISH
X-WR-CALNAME:James J. Hill Days
X-ORIGINAL-URL:https://jamesjhilldays.wayzatawestmetrochamber.com
X-WR-CALDESC:Events for James J. Hill Days
REFRESH-INTERVAL;VALUE=DURATION:PT1H
X-Robots-Tag:noindex
X-PUBLISHED-TTL:PT1H
BEGIN:VTIMEZONE
TZID:UTC
BEGIN:STANDARD
TZOFFSETFROM:+0000
TZOFFSETTO:+0000
TZNAME:UTC
DTSTART:20250101T000000
END:STANDARD
END:VTIMEZONE
BEGIN:VEVENT
DTSTART;TZID=UTC:20260913T110000
DTEND;TZID=UTC:20260913T140000
DTSTAMP:20260422T013958
CREATED:20240816T165617Z
LAST-MODIFIED:20250908T144829Z
UID:3173-1789297200-1789308000@jamesjhilldays.wayzatawestmetrochamber.com
SUMMARY:Doggy Olympics & Dog Park Activities
DESCRIPTION:James J. Hill Days Dog Park is THE place to be for dog lovers from 10 am – 2 pm both Saturday & Sunday at Panoway Plaza.\nSunday\, September 13 Doggy Olympics | 12:30 – 2 pm | Registration opens at 11 am\nYou and your pup are challenged to join us on Sunday\, September 13 from 12:30 – 2 pm for the JJHD DOGGY OLYMPICS! Looking for a great way to engage\, burn off some energy and have fun with your pup? Games are the best way to do that – they are fun for you and your dog! BYOD (Bring Your Own Dog) and take on the challenge of the WINE GLASS WALK\, the ever-popular MUSICAL BEACH CHAIRS game\, and the ultimate test of focus: our LONGEST SIT-STAY contest. \n\nWine Walk – Holding a wine glass (filled with water)\, you and your dog will walk down and back on the Panoway lawn. The team who makes it back with the most amount of wine in the shortest amount of time wins!\nMusical Beach Chairs – Just like musical chairs\, but with beach towels for your dog to sit on. When the music stops\, your dog must sit on the closest towel (one dog per towel). The last dog sitting on a beach towel is the winner!\nLongest Sit-Stay Contest – All dogs will sit and stay on a beach towel while an increasing number of “distractions” are presented. The dog who holds their sit-stay the longest is the winner!\n\nCompete for fabulous prizes! The winner of each event will go home with an amazing gift from one of our sponsors. \nAvailable to all dog sizes/breeds and their humans! The Doggy Olympics games can be played by any doggo/human team – and it’s FREE to register!  \nDon’t let your pup miss out on the fun!  \n  \nPremier Sponsor of the JJHD Dachshund Races & Doggy Olympics\n \n  \n \n \nMore Fun Happenings at the Dog Park \n\nDog Pack Walks – FREE event! Adventure is Barking is hosting Dog Pack Walks Saturday & Sunday from 10 am – 11 am. Learn more here.\nDer Viener Schlinger – Catch the golden hot dog for a chance to win free hot dogs for a year!\nEnjoy pupperific treats from our sponsors 11 am – 2 pm.\nGet ready for your close-up as you pose for pictures with your pup in the Doggy Kissing Booth at 10 am both Saturday and Sunday.\nWayzata PD K9 Demo with Officer Gehrman and his SAR team on Sunday at 11:30 am. \n\n \nSponsored by\n  \n      \n \n \n \n 
URL:https://jamesjhilldays.wayzatawestmetrochamber.com/event/doggy-olympics/
LOCATION:Panoway on Wayzata Bay
ATTACH;FMTTYPE=image/png:https://jamesjhilldays.wayzatawestmetrochamber.com/wp-content/uploads/sites/7/2024/08/Eventbrite-Cover-images-Facebook-Cover-20.png
END:VEVENT
END:VCALENDAR