BEGIN:VCALENDAR
VERSION:2.0
PRODID:-//James J. Hill Days - ECPv6.15.18//NONSGML v1.0//EN
CALSCALE:GREGORIAN
METHOD:PUBLISH
X-WR-CALNAME:James J. Hill Days
X-ORIGINAL-URL:https://jamesjhilldays.wayzatawestmetrochamber.com
X-WR-CALDESC:Events for James J. Hill Days
REFRESH-INTERVAL;VALUE=DURATION:PT1H
X-Robots-Tag:noindex
X-PUBLISHED-TTL:PT1H
BEGIN:VTIMEZONE
TZID:UTC
BEGIN:STANDARD
TZOFFSETFROM:+0000
TZOFFSETTO:+0000
TZNAME:UTC
DTSTART:20250101T000000
END:STANDARD
END:VTIMEZONE
BEGIN:VEVENT
DTSTART;TZID=UTC:20260913T150000
DTEND;TZID=UTC:20260913T160000
DTSTAMP:20260422T013841
CREATED:20200220T014305Z
LAST-MODIFIED:20250908T145048Z
UID:537-1789311600-1789315200@jamesjhilldays.wayzatawestmetrochamber.com
SUMMARY:Parade
DESCRIPTION:Join us on Lake Street Sunday\, September 13 for this tradition like no other! \n  \n  \n  \n 
URL:https://jamesjhilldays.wayzatawestmetrochamber.com/event/parade/
LOCATION:Lake Street Wayzata
ATTACH;FMTTYPE=image/png:https://jamesjhilldays.wayzatawestmetrochamber.com/wp-content/uploads/sites/7/2020/02/parade.png
END:VEVENT
END:VCALENDAR