BEGIN:VCALENDAR
VERSION:2.0
PRODID:-//James J. Hill Days - ECPv6.15.18//NONSGML v1.0//EN
CALSCALE:GREGORIAN
METHOD:PUBLISH
X-WR-CALNAME:James J. Hill Days
X-ORIGINAL-URL:https://jamesjhilldays.wayzatawestmetrochamber.com
X-WR-CALDESC:Events for James J. Hill Days
REFRESH-INTERVAL;VALUE=DURATION:PT1H
X-Robots-Tag:noindex
X-PUBLISHED-TTL:PT1H
BEGIN:VTIMEZONE
TZID:UTC
BEGIN:STANDARD
TZOFFSETFROM:+0000
TZOFFSETTO:+0000
TZNAME:UTC
DTSTART:20250101T000000
END:STANDARD
END:VTIMEZONE
BEGIN:VEVENT
DTSTART;TZID=UTC:20260911T170000
DTEND;TZID=UTC:20260911T210000
DTSTAMP:20260422T014422
CREATED:20200220T010050Z
LAST-MODIFIED:20250908T145937Z
UID:510-1789146000-1789160400@jamesjhilldays.wayzatawestmetrochamber.com
SUMMARY:Friday Night Street Market
DESCRIPTION:The 2025 James J. Hill Days Street Market application will be available in Spring 2026.  \nShop over 150 unique vendors on Friday-Sunday\, September 11-13\, including vendors from the following categories: Business\, Health & Wellness\, Home & Garden\, Non-Profit\, Arts & Crafts\, Sports + Fitness. \nStreet Market Show Hours:  \n\nFriday\, 5 – 9 PM\nSaturday\, 10 AM – 7 PM\nSunday\, 10 AM – 4 PM\n\n 
URL:https://jamesjhilldays.wayzatawestmetrochamber.com/event/street-market/
LOCATION:Lake Street Wayzata
ATTACH;FMTTYPE=image/png:https://jamesjhilldays.wayzatawestmetrochamber.com/wp-content/uploads/sites/7/2020/02/street-market.png
END:VEVENT
END:VCALENDAR