BEGIN:VCALENDAR
VERSION:2.0
PRODID:-//James J. Hill Days - ECPv6.15.18//NONSGML v1.0//EN
CALSCALE:GREGORIAN
METHOD:PUBLISH
X-WR-CALNAME:James J. Hill Days
X-ORIGINAL-URL:https://jamesjhilldays.wayzatawestmetrochamber.com
X-WR-CALDESC:Events for James J. Hill Days
REFRESH-INTERVAL;VALUE=DURATION:PT1H
X-Robots-Tag:noindex
X-PUBLISHED-TTL:PT1H
BEGIN:VTIMEZONE
TZID:UTC
BEGIN:STANDARD
TZOFFSETFROM:+0000
TZOFFSETTO:+0000
TZNAME:UTC
DTSTART:20250101T000000
END:STANDARD
END:VTIMEZONE
BEGIN:VEVENT
DTSTART;TZID=UTC:20260913T144500
DTEND;TZID=UTC:20260913T150000
DTSTAMP:20260422T014029
CREATED:20200220T013820Z
LAST-MODIFIED:20250908T145107Z
UID:534-1789310700-1789311600@jamesjhilldays.wayzatawestmetrochamber.com
SUMMARY:T-6 Thunder Airshow
DESCRIPTION:LOOK UP! As you line Lake Street for the parade\, don’t forget to turn toward the sky. \nSponsored By\n     
URL:https://jamesjhilldays.wayzatawestmetrochamber.com/event/t-6-thunder-airshow/
LOCATION:Lake Street Wayzata
ATTACH;FMTTYPE=image/png:https://jamesjhilldays.wayzatawestmetrochamber.com/wp-content/uploads/sites/7/2020/02/airplanes.png
END:VEVENT
END:VCALENDAR