BEGIN:VCALENDAR
VERSION:2.0
PRODID:-//James J. Hill Days - ECPv6.15.18//NONSGML v1.0//EN
CALSCALE:GREGORIAN
METHOD:PUBLISH
X-WR-CALNAME:James J. Hill Days
X-ORIGINAL-URL:https://jamesjhilldays.wayzatawestmetrochamber.com
X-WR-CALDESC:Events for James J. Hill Days
REFRESH-INTERVAL;VALUE=DURATION:PT1H
X-Robots-Tag:noindex
X-PUBLISHED-TTL:PT1H
BEGIN:VTIMEZONE
TZID:America/New_York
BEGIN:DAYLIGHT
TZOFFSETFROM:-0500
TZOFFSETTO:-0400
TZNAME:EDT
DTSTART:20240310T070000
END:DAYLIGHT
BEGIN:STANDARD
TZOFFSETFROM:-0400
TZOFFSETTO:-0500
TZNAME:EST
DTSTART:20241103T060000
END:STANDARD
BEGIN:DAYLIGHT
TZOFFSETFROM:-0500
TZOFFSETTO:-0400
TZNAME:EDT
DTSTART:20250309T070000
END:DAYLIGHT
BEGIN:STANDARD
TZOFFSETFROM:-0400
TZOFFSETTO:-0500
TZNAME:EST
DTSTART:20251102T060000
END:STANDARD
BEGIN:DAYLIGHT
TZOFFSETFROM:-0500
TZOFFSETTO:-0400
TZNAME:EDT
DTSTART:20260308T070000
END:DAYLIGHT
BEGIN:STANDARD
TZOFFSETFROM:-0400
TZOFFSETTO:-0500
TZNAME:EST
DTSTART:20261101T060000
END:STANDARD
END:VTIMEZONE
BEGIN:VTIMEZONE
TZID:UTC
BEGIN:STANDARD
TZOFFSETFROM:+0000
TZOFFSETTO:+0000
TZNAME:UTC
DTSTART:20240101T000000
END:STANDARD
END:VTIMEZONE
BEGIN:VEVENT
DTSTART;TZID=America/New_York:20250907T080000
DTEND;TZID=America/New_York:20250907T140000
DTSTAMP:20260422T030246
CREATED:20250805T213533Z
LAST-MODIFIED:20250827T135609Z
UID:3538-1757232000-1757253600@jamesjhilldays.wayzatawestmetrochamber.com
SUMMARY:Pickleball Plaza & Battle of the Paddles
DESCRIPTION:Join us at the Wayzata Depot Pickleball Plaza for two days of all things pickleball\, including a Picklemart where you can shop the latest trends in pickleball apparel and supplies\, test drive a new paddle\, or join a pickleball club. Saturday and Sunday from 8 a.m. to 2 p.m.\, we will host 3.0 to 3.75 men’s\, women’s\, and mixed doubles competition\, followed by drop-in play for all comers on the newly paved courts adjacent to the Wayzata Depot. Bring your own paddle\, or we will supply one for open play. Kids\, bring your parents to sign the release of liability form if you want to play. Following is a schedule of activities for the Pickleball Plaza and the format of our tournament. \nTicket Price and Information:\nThis is a pre-registered event with limited spots available. \n$25 per player \nIf you plan on registering a team\, please select “Quantity 2”. \n \n2nd Annual Battle of the Paddles Tournament\nFor 3.0-3.75 on Saturday and Sunday morning; Please self-rate accordingly to ensure quality competitive play. Each bracket will consist of 8 teams organized randomly into 2 pools of 4 teams. Each pool will play a total of 3 games in round robin fashion to 13 points using rally scoring. The top 4 teams in each pool will advance to the playoff round for double-elimination competition. Games to 11 points\, win by 2. Prizes will be awarded to the top 3 teams. This tournament will be held at the Wayzata Depot. \nThe 3.75+ tournament will be held Saturday\, September 6th\, from 1-3 pm and will consist of up to 8 teams. \nEach team can be made up of men\, women\, children\, or mixed of any of these. Please self-rate accordingly to ensure quality competitive play. Play will consist of pool play followed by bracket play. The number and length of games will be subject to the number of participants in the draw. The scheduled timeframe from start to finish is 1-3pm. Players shall count on at least 90 minutes of tournament play. Play will be continuous so plan nutrition and hydration accordingly. This tournament will be held on 4 courts at Wayzata Country Club (cWc). \n  \nTOURNAMENT SCHEDULE: \nSaturday 8 am – 10 am > 3.0-3.4 women’s at Depot \nSaturday 10 am – 12 pm > 3.0-3.4 men’s at Depot \nSaturday 12 pm – 2 pm > 3.0-3.4 mixed doubles at Depot \n  \nSunday 8 am – 10 am > 3.5-3.7 women’s at Depot \nSunday 10 am – 12 pm > 3.5-3.7 men’s at Depot \nSunday 12 pm – 2 pm > 3.5-3.7 mixed doubles at Depot \n  \nPICKLEBALL PALOOZA SCHEDULE \nPickleball Palooza – Saturday\, September 6 from  8am – 4pm \n          8am – 2pm – Battle of the Paddles Tournament – Wayzata Depot\n          1pm – 3pm – Battle of the Paddles 3.75+ Tournament – Wayzata Country Club\n          2pm – 6pm – Pickleball Open Play – Wayzata Depot \nPickleball Palooza – Sunday\, September 7th from 8am – 4pm \n          8am – 2pm – Battle of the Paddles Tournament – Wayzata Depot\n          2pm – 4pm – Pickleball Open Play – Wayzata Depot \n  \nIf you are a business interested in sponsoring this new event\, please contact brooke@wayzatawestmetrochamber.com\n  \nRally Sponsor\n  \n  \nIn – Kind Sponsor\n \n 
URL:https://jamesjhilldays.wayzatawestmetrochamber.com/event/pickleball-plaza-battle-of-the-paddles/
LOCATION:Wayzata Depot\, MN
ATTACH;FMTTYPE=image/jpeg:https://jamesjhilldays.wayzatawestmetrochamber.com/wp-content/uploads/sites/7/2024/08/FB_IMG_1725841388542.jpg
END:VEVENT
BEGIN:VEVENT
DTSTART;TZID=UTC:20250906T090000
DTEND;TZID=UTC:20250906T123000
DTSTAMP:20260422T030246
CREATED:20200220T003225Z
LAST-MODIFIED:20250707T181413Z
UID:504-1757149200-1757161800@jamesjhilldays.wayzatawestmetrochamber.com
SUMMARY:Coaster Cart Derby
DESCRIPTION:ALL KIDS WELCOME TO PARTICIPATE (6-14 yr old)! \nDon’t miss this family event using gravity-propelled vehicles. The Coaster Cart Derby is intended solely as an enjoyable event for youth (boys & girls\, 6 to 14 year olds)\, families\, and spectators. The event is not sanctioned by any recognized competition agency.  A parent or guardian must directly supervise the design and construction of the vehicle\, and guide and train any driver of the vehicle to ensure safe equipment and use of it. The drivers must wear a helmet\, which will adequately protect them. Refer to the official rules. The cost is $25 per driver.  \nThere is a limited number of Coaster Carts available for your use. Please contact Nira Rajan at Nira_Rajan@yahoo.com \n \nWhen: Check-in and cart safety inspection – 9:00 AM\n               Practice runs will start – 9:30 AM\n                Races begin – 10:00 AM \nWhere: 229 Minnetonka Ave S\, Wayzata\, MN 55391\n                 At the hill in front of the Wayzata Post Office at the corner of Minnetonka Ave and Indian Mound Street \nCoaster Cart Kits can be purchased by contacting Bill Turney by email at bill.turney@sympatico.ca . His website includes photos of his GT2000 Soapbox Racer. Orders must be placed by email. \nParts for a home-designed cart can be purchased at Northern Tool. \nHave fun designing and building your coaster cart over the summer! See you at the races for a lot of good old fashioned fun! \n\n*A parent or guardian must directly supervise the design and construction of the vehicle. They should also guide and train any driver to ensure the car is safe and used correctly. Drivers must wear a helmet. For more details\, refer to the official rules using the registration link above.
URL:https://jamesjhilldays.wayzatawestmetrochamber.com/event/coaster-cart-derby/
LOCATION:229 Minnetonka Ave. S\, Wayzata\, MN
ATTACH;FMTTYPE=image/png:https://jamesjhilldays.wayzatawestmetrochamber.com/wp-content/uploads/sites/7/2020/02/coaster-cart.png
END:VEVENT
END:VCALENDAR