BEGIN:VCALENDAR
VERSION:2.0
PRODID:-//James J. Hill Days - ECPv6.15.18//NONSGML v1.0//EN
CALSCALE:GREGORIAN
METHOD:PUBLISH
X-WR-CALNAME:James J. Hill Days
X-ORIGINAL-URL:https://jamesjhilldays.wayzatawestmetrochamber.com
X-WR-CALDESC:Events for James J. Hill Days
REFRESH-INTERVAL;VALUE=DURATION:PT1H
X-Robots-Tag:noindex
X-PUBLISHED-TTL:PT1H
BEGIN:VTIMEZONE
TZID:UTC
BEGIN:STANDARD
TZOFFSETFROM:+0000
TZOFFSETTO:+0000
TZNAME:UTC
DTSTART:20250101T000000
END:STANDARD
END:VTIMEZONE
BEGIN:VTIMEZONE
TZID:America/New_York
BEGIN:DAYLIGHT
TZOFFSETFROM:-0500
TZOFFSETTO:-0400
TZNAME:EDT
DTSTART:20250309T070000
END:DAYLIGHT
BEGIN:STANDARD
TZOFFSETFROM:-0400
TZOFFSETTO:-0500
TZNAME:EST
DTSTART:20251102T060000
END:STANDARD
BEGIN:DAYLIGHT
TZOFFSETFROM:-0500
TZOFFSETTO:-0400
TZNAME:EDT
DTSTART:20260308T070000
END:DAYLIGHT
BEGIN:STANDARD
TZOFFSETFROM:-0400
TZOFFSETTO:-0500
TZNAME:EST
DTSTART:20261101T060000
END:STANDARD
BEGIN:DAYLIGHT
TZOFFSETFROM:-0500
TZOFFSETTO:-0400
TZNAME:EDT
DTSTART:20270314T070000
END:DAYLIGHT
BEGIN:STANDARD
TZOFFSETFROM:-0400
TZOFFSETTO:-0500
TZNAME:EST
DTSTART:20271107T060000
END:STANDARD
END:VTIMEZONE
BEGIN:VEVENT
DTSTART;TZID=UTC:20260911T170000
DTEND;TZID=UTC:20260911T210000
DTSTAMP:20260422T013949
CREATED:20191207T002744Z
LAST-MODIFIED:20250930T155244Z
UID:325-1789146000-1789160400@jamesjhilldays.wayzatawestmetrochamber.com
SUMMARY:Rails & Ales Craft Beer Festival
DESCRIPTION:James J. Hill loved a good beer! So\, lets cheers to the man and kick off Lake Minnetonka’s largest community celebration! Join us Friday\, September 11th from 5 – 9 pm to sample beers from 20+ breweries\, enjoy 20+ food trucks (not included in ticket price)\, live music by Coyote Wild and games. Must be 21+ by September 11\, 2026. No refunds\, no exceptions. Don’t forget to bring your ticket along with your photo ID. No ID/Ticket = No Entrance. Please drink responsibly.  \nTicket Price and Information:\nThis is pre-registered event with limited tickets available\, so buy your tickets today! \nPresale Ticket Price = $45 \nAt the Door Ticket Price = $50 \nTicket includes entry\, unlimited samples of craft beer\, your very own commemorative sampling glass\, games\, music\, access to 20+ food trucks\, and all kinds of opportunities to meet people just like yourself: awesome\, responsible fans of craft beer! \n \nAre you a brewery interested in participating in 2026? \nCLICK HERE TO SIGN UP!\n  \n 2025 Brewery Line-up\n56 Brewing \nBirch’s on the Lake\nBlackStack Brewing\nBoom Island Brewing Co\nBroken Clock Brewing Cooperative\nDapper Barons\nEaston Cider Company\nElm Creek Brewing \nExcelsior Brewing Company\nGray Duck Seltzer\nGluek Beer\nHackamore Brewing \nIron Exchange Tavern and Brewery\nLa Doña Cervecería\nLuce Line Brewing\nLupulin Brewing\nModist Brewing Company\nRevolution Brewing\nSteel Toe Brewing\nToppling Goliath\nUnmapped Brewing Co.\nWooden Hill Brewing\nWooden Ship Brewing \nAre you a brewery interested in Rails & Ales? Contact Brooke Beyer at Brooke@wayzatawestmetrochamber.com.  \nWe have 20+ food trucks on Lake Street that you can visit during Rails & Ales.\n  \nSponsored By\n              Tradition Capital Bank\n \n 
URL:https://jamesjhilldays.wayzatawestmetrochamber.com/event/railes-and-ales/
LOCATION:Wayzata Depot\, MN
ATTACH;FMTTYPE=image/png:https://jamesjhilldays.wayzatawestmetrochamber.com/wp-content/uploads/sites/7/2019/12/beer.png
END:VEVENT
BEGIN:VEVENT
DTSTART;TZID=UTC:20260911T170000
DTEND;TZID=UTC:20260911T210000
DTSTAMP:20260422T013949
CREATED:20200220T010050Z
LAST-MODIFIED:20250908T145937Z
UID:510-1789146000-1789160400@jamesjhilldays.wayzatawestmetrochamber.com
SUMMARY:Friday Night Street Market
DESCRIPTION:The 2025 James J. Hill Days Street Market application will be available in Spring 2026.  \nShop over 150 unique vendors on Friday-Sunday\, September 11-13\, including vendors from the following categories: Business\, Health & Wellness\, Home & Garden\, Non-Profit\, Arts & Crafts\, Sports + Fitness. \nStreet Market Show Hours:  \n\nFriday\, 5 – 9 PM\nSaturday\, 10 AM – 7 PM\nSunday\, 10 AM – 4 PM\n\n 
URL:https://jamesjhilldays.wayzatawestmetrochamber.com/event/street-market/
LOCATION:Lake Street Wayzata
ATTACH;FMTTYPE=image/png:https://jamesjhilldays.wayzatawestmetrochamber.com/wp-content/uploads/sites/7/2020/02/street-market.png
END:VEVENT
BEGIN:VEVENT
DTSTART;TZID=UTC:20260911T170000
DTEND;TZID=UTC:20260911T220000
DTSTAMP:20260422T013949
CREATED:20200220T011820Z
LAST-MODIFIED:20250908T145750Z
UID:515-1789146000-1789164000@jamesjhilldays.wayzatawestmetrochamber.com
SUMMARY:Food + Drink
DESCRIPTION:Soak up the sun as you stroll Lake Street and sip on a refreshing glass of wine or ice-cold craft beer from the Beer + Wine tents. Savor delicious eats and enjoy food truck specialties. \n2025 Food Trucks \nAgave Express | @agavekitchen + AgaveKitchen  \nAL CHILIE STREET FOOD | AlChilieStreetFood  \nBad Rooster | @badroostertruck + BadRoosterTruck \nCane + Cotton | @caneandcotton + CaneandCotton \nEggroll Queen | EggRollQueen1 \nFirehouse Foods (Sat + Sun only!) \nMatt’s Bar | Matt’sBar (Fri +Sat only!) \nMN Nice Cream | @mnicecream + MNNiceCream \nMyBurger | @myburgerusa + MyBurgerUSA (Sat + Sun only!) \nNautical Bowls | @NauticalBowls + NauticalBowls \nNorthstar Donuts | @northstardonuts + NorthStarDonuts \nPaella Depot | @paelladepot + PaellaDepot \nPharaohs Gyros | PharaohsGyros \nPhilicious Phillys | PhiliciousPhillys \nRed’s Savoy Pizza | @savoypizza + Red’sSavoyPizza  \nRock Elm Rig | @rockelmrig + RockElmRig \nRocket Ribs and BBQ | @rocketribsandbbq + RocketRibsandBBQ \nRollin Nolens BBQ | @rollinnolensbbqtruck + Rollnolens \nThe Purple People Feeder | @thepurplepeoplefeeder + ThePurplePeopleFeeder \nTommys Z’s Concession  \nZoe’s Gone Bananas | zoesgonebananas + Zoe’sGoneBananas (Sat + Sun only!) \n  \nThank You to our Eat Street Sponsor!
URL:https://jamesjhilldays.wayzatawestmetrochamber.com/event/eat-street-beer-garden/
LOCATION:Lake Street Wayzata
ATTACH;FMTTYPE=image/jpeg:https://jamesjhilldays.wayzatawestmetrochamber.com/wp-content/uploads/sites/7/2020/02/JJHD-Food-and-Drink.jpg
END:VEVENT
BEGIN:VEVENT
DTSTART;TZID=UTC:20260911T170000
DTEND;TZID=UTC:20260911T220000
DTSTAMP:20260422T013949
CREATED:20220801T150440Z
LAST-MODIFIED:20250908T145716Z
UID:1875-1789146000-1789164000@jamesjhilldays.wayzatawestmetrochamber.com
SUMMARY:Lake Minnetonka Carnival
DESCRIPTION:Discounted Pre-Sale Carnival Tickets on sale in August. \n\nFull price tickets available September 11-13 at Lunds & Byerlys Wayzata and Carnival Ticket Booth \nStep right up! James J. Hill Days\, Lake Minnetonka’s largest 3 -day Festival\, is right around the corner! One of the best features is the Lake Minnetonka Carnival\, a family favorite\, and rightfully so! This epicenter of fun is filled with a full-blown Ferris Wheel\, ride after thrilling ride\, carnival food and games. \nMEGA ARMBANDS\nFULL WEEKEND PURPLE PASS PRESALE – $80 (NOT AVAILABLE AT TICKET BOOTH) \nADVANCED ARMBANDS\nSINGLE SESSION GOLD PASS PRESALE – $30 ($40 AT TICKET BOOTH) \nSession Times \nFriday: 5 pm-10 pm\nSaturday: 10 am – 4 pm\nSaturday: 4 pm – 10 pm\nSunday: 10 am – 4 pm \n  \nSponsored By\n \n  \n 
URL:https://jamesjhilldays.wayzatawestmetrochamber.com/event/lake-minnetonka-carnival-2/
LOCATION:Lake Street Wayzata\, MN\, 5539
ATTACH;FMTTYPE=image/png:https://jamesjhilldays.wayzatawestmetrochamber.com/wp-content/uploads/sites/7/2020/02/carnival.png
END:VEVENT
BEGIN:VEVENT
DTSTART;TZID=UTC:20260911T180000
DTEND;TZID=UTC:20260911T220000
DTSTAMP:20260422T013949
CREATED:20220829T203847Z
LAST-MODIFIED:20250908T144614Z
UID:2216-1789149600-1789164000@jamesjhilldays.wayzatawestmetrochamber.com
SUMMARY:Live Music
DESCRIPTION:FREE entertainment all weekend long on Sandvold Stage located at Minnetonka Avenue and Lake Street!  \n  \n\n\n2026 line up to come\n 
URL:https://jamesjhilldays.wayzatawestmetrochamber.com/event/live-music-saturday/
LOCATION:Lake Street Wayzata
ATTACH;FMTTYPE=image/jpeg:https://jamesjhilldays.wayzatawestmetrochamber.com/wp-content/uploads/sites/7/2022/08/band-7.jpg
END:VEVENT
BEGIN:VEVENT
DTSTART;TZID=UTC:20260912T100000
DTEND;TZID=UTC:20260912T140000
DTSTAMP:20260422T013949
CREATED:20210730T135605Z
LAST-MODIFIED:20250908T144910Z
UID:916-1789207200-1789221600@jamesjhilldays.wayzatawestmetrochamber.com
SUMMARY:Dachshund Races & Dog Park Activities
DESCRIPTION:James J. Hill Days Dog Park is THE place to be for dog lovers from 10 am – 2 pm both Saturday & Sunday at Panoway Plaza.\nSaturday\, September 12 Dachshund Races | Races Start at 12 pm | Registration Opens at 10 am\nThe races will be held on Saturday\, September 12 at noon at the JJHD Dog Park (at the Panoway on Wayzata Bay Plaza) in Downtown Wayzata. The cost for entry for each event is $25. The races consist of three events; Sprints\, Hurdles\, and a Costume Contest.  You can register for one event or all three! Entries will be accepted until the race is full.  Entry fees are non-refundable.  \nBundles: Have more than one Doxie? \n– Buy your ticket for the sprints\, hurdles\, and costume contest at the full price $25 – register your 2nd Doxie (and 3rd Doxie if applicable) for $10 \n– Buy your ticket for the costume contest at full price $25 – register your 2nd Doxie (and 3rd Doxie if applicable) for FREE. \nRace Rules \n– Races are assigned at random and the number of dogs in each heat will be based on number of entries. \n– The first place dachshund in each heat will advance to the finals. \n– Each dachshund will need two handlers to race – one at the starting line as the “releaser” and one at the finish line as the “catcher.”  \n– You may bring your dog’s favorite toy as an incentive at the finish line.  Items not allowed: “loud” noise toys or objects\, laser pointers\, “human food” (small treats okay). \n– Winners of heats and advancement is the decision of the finish line judge. \n  \nPremier Sponsor of the JJHD Dachshund Races & Doggy Olympics\n \n  \n  \n \n \nMore Fun Happenings at the Dog Park \n\nDog Pack Walks – FREE event! Adventure is Barking is hosting Dog Pack Walks Saturday & Sunday from 10 am – 11 am. Learn more here.\nDer Viener Schlinger – Catch the golden hot dog for a chance to win free hot dogs for a year!\nDoggy Olympics is Sunday! Click here to learn more. \nGet ready for your close-up as you pose for pictures with your pup in the Doggy Kissing Booth at 10 am both Saturday and Sunday.\nWayzata PD K9 Demo with Officer Gehrman and his SAR team on Sunday at 11:30 am. \n\n \nSponsored by\n  \n        \n \n \n 
URL:https://jamesjhilldays.wayzatawestmetrochamber.com/event/dachshund-races/
LOCATION:Panoway on Wayzata Bay
ATTACH;FMTTYPE=image/png:https://jamesjhilldays.wayzatawestmetrochamber.com/wp-content/uploads/sites/7/2021/07/Eventbrite-Cover-images-Facebook-Cover-19.png
END:VEVENT
BEGIN:VEVENT
DTSTART;TZID=UTC:20260912T100000
DTEND;TZID=UTC:20260912T190000
DTSTAMP:20260422T013949
CREATED:20210708T171756Z
LAST-MODIFIED:20250908T145919Z
UID:812-1789207200-1789239600@jamesjhilldays.wayzatawestmetrochamber.com
SUMMARY:Street Market
DESCRIPTION:The 2026 James J. Hill Days Street Market application has closed will be available in Spring 2026.  \nShop over 150 unique vendors on Friday-Sunday\, September 5-7\, including vendors from the following categories: Business\, Health & Wellness\, Home & Garden\, Non-Profit\, Arts & Crafts\, Sports + Fitness. \nStreet Market Show Hours:  \n\nFriday\, 5 – 9 PM\nSaturday\, 10 AM – 7 PM\nSunday\, 10 AM – 4 PM\n\n 
URL:https://jamesjhilldays.wayzatawestmetrochamber.com/event/street-market-3/
LOCATION:Lake Street Wayzata
ATTACH;FMTTYPE=image/png:https://jamesjhilldays.wayzatawestmetrochamber.com/wp-content/uploads/sites/7/2020/02/street-market.png
END:VEVENT
BEGIN:VEVENT
DTSTART;TZID=America/New_York:20260912T100000
DTEND;TZID=America/New_York:20260912T190000
DTSTAMP:20260422T013949
CREATED:20240910T164746Z
LAST-MODIFIED:20250908T145544Z
UID:3308-1789207200-1789239600@jamesjhilldays.wayzatawestmetrochamber.com
SUMMARY:Logrolling
DESCRIPTION:We’re excited to bring fan-favorite logrolling back to James J. Hill Days! \n \nThe rolling pool will be right out on Panoway Plaza. By all means\, bring your rolling attire or swimming suits to try it out throughout all three days of James J. Hill Days. Experienced rollers will be providing instruction and encouragement to any interested participant\, they would love to share some of their tips and tricks to stay on or roll their competitors off the log. \n \nWhether new to log rolling or an experienced birler\, we look forward to rolling with you! You can get a quick lesson and hop up on the log and challenge your skills against yourself\, your friends or other rollers: fun will be had by all. \n   \nReady\, Steady. Roll.\n        \nSponsored By
URL:https://jamesjhilldays.wayzatawestmetrochamber.com/event/logrolling-2/
LOCATION:Panoway on Wayzata Bay
ATTACH;FMTTYPE=image/png:https://jamesjhilldays.wayzatawestmetrochamber.com/wp-content/uploads/sites/7/2020/02/Untitled-1.png
END:VEVENT
BEGIN:VEVENT
DTSTART;TZID=UTC:20260912T100000
DTEND;TZID=UTC:20260912T220000
DTSTAMP:20260422T013949
CREATED:20200219T232823Z
LAST-MODIFIED:20250908T144639Z
UID:478-1789207200-1789250400@jamesjhilldays.wayzatawestmetrochamber.com
SUMMARY:Live Music
DESCRIPTION:FREE entertainment all weekend long on Sandvold Stage located at Minnetonka Avenue and Lake Street!  \n  \n2026 line up to come\n\n \n\n 
URL:https://jamesjhilldays.wayzatawestmetrochamber.com/event/music-food-beer-garden/
LOCATION:Lake Street Wayzata
ATTACH;FMTTYPE=image/jpeg:https://jamesjhilldays.wayzatawestmetrochamber.com/wp-content/uploads/sites/7/2020/02/DPWerks_191.jpg
END:VEVENT
BEGIN:VEVENT
DTSTART;TZID=UTC:20260912T100000
DTEND;TZID=UTC:20260912T220000
DTSTAMP:20260422T013949
CREATED:20200219T235107Z
LAST-MODIFIED:20250908T145522Z
UID:2874-1789207200-1789250400@jamesjhilldays.wayzatawestmetrochamber.com
SUMMARY:Lake Minnetonka Carnival
DESCRIPTION:Discounted Pre-Sale Carnival Tickets on sale in August. \n\nFull price tickets available September 11-13 at Lunds & Byerlys Wayzata and Carnival Ticket Booth \nStep right up! James J. Hill Days\, Lake Minnetonka’s largest 3 -day Festival\, is right around the corner! One of the best features is the Lake Minnetonka Carnival\, a family favorite\, and rightfully so! This epicenter of fun is filled with a full-blown Ferris Wheel\, ride after thrilling ride\, carnival food and games. \nMEGA ARMBANDS\nFULL WEEKEND PURPLE PASS PRESALE – $80 (NOT AVAILABLE AT TICKET BOOTH) \nADVANCED ARMBANDS\nSINGLE SESSION GOLD PASS PRESALE – $30 ($40 AT TICKET BOOTH) \nSession Times \nFriday: 5 pm-10 pm\nSaturday: 10 am – 4 pm\nSaturday: 4 pm – 10 pm\nSunday: 10 am – 4 pm \n  \nSponsored By\n \n  \n 
URL:https://jamesjhilldays.wayzatawestmetrochamber.com/event/lake-minnetonka-carnival-2024-09-07/
LOCATION:Lake Street Wayzata\, MN\, 5539
ATTACH;FMTTYPE=image/png:https://jamesjhilldays.wayzatawestmetrochamber.com/wp-content/uploads/sites/7/2020/02/carnival.png
END:VEVENT
BEGIN:VEVENT
DTSTART;TZID=UTC:20260912T100000
DTEND;TZID=UTC:20260912T220000
DTSTAMP:20260422T013949
CREATED:20240626T135845Z
LAST-MODIFIED:20250908T145453Z
UID:2983-1789207200-1789250400@jamesjhilldays.wayzatawestmetrochamber.com
SUMMARY:Food + Drink
DESCRIPTION:Soak up the sun as you stroll Lake Street and sip on a refreshing glass of wine or ice-cold craft beer from the Beer + Wine tents. Savor delicious eats and enjoy food truck specialties. \n  \n2025 Food Trucks \nAgave Express | @agavekitchen + AgaveKitchen  \nAL CHILIE STREET FOOD | AlChilieStreetFood  \nBad Rooster | @badroostertruck + BadRoosterTruck \nCane + Cotton | @caneandcotton + CaneandCotton \nEggroll Queen | EggRollQueen1 \nFirehouse Foods (Sat + Sun only!) \nMatt’s Bar | Matt’sBar (Fri +Sat only!) \nMN Nice Cream | @mnicecream + MNNiceCream \nMyBurger | @myburgerusa + MyBurgerUSA (Sat + Sun only!) \nNautical Bowls | @NauticalBowls + NauticalBowls \nNorthstar Donuts | @northstardonuts + NorthStarDonuts \nPaella Depot | @paelladepot + PaellaDepot \nPharaohs Gyros | PharaohsGyros \nPhilicious Phillys | PhiliciousPhillys \nRed’s Savoy Pizza | @savoypizza + Red’sSavoyPizza  \nRock Elm Rig | @rockelmrig + RockElmRig \nRocket Ribs and BBQ | @rocketribsandbbq + RocketRibsandBBQ \nRollin Nolens BBQ | @rollinnolensbbqtruck + Rollnolens \nThe Purple People Feeder | @thepurplepeoplefeeder + ThePurplePeopleFeeder \nTommys Z’s Concession  \nZoe’s Gone Bananas | zoesgonebananas + Zoe’sGoneBananas (Sat + Sun only!) \n  \nThank You to our Eat Street Sponsor!
URL:https://jamesjhilldays.wayzatawestmetrochamber.com/event/food-drink/
LOCATION:Lake Street Wayzata
ATTACH;FMTTYPE=image/jpeg:https://jamesjhilldays.wayzatawestmetrochamber.com/wp-content/uploads/sites/7/2020/02/JJHD-Food-and-Drink.jpg
END:VEVENT
BEGIN:VEVENT
DTSTART;TZID=UTC:20260913T100000
DTEND;TZID=UTC:20260913T160000
DTSTAMP:20260422T013949
CREATED:20240806T180406Z
LAST-MODIFIED:20250908T145908Z
UID:3095-1789293600-1789315200@jamesjhilldays.wayzatawestmetrochamber.com
SUMMARY:Street Market
DESCRIPTION:The 2026 James J. Hill Days Street Market application has closed will be available in Spring 2026.  \nShop over 150 unique vendors on Friday-Sunday\, September 5-7\, including vendors from the following categories: Business\, Health & Wellness\, Home & Garden\, Non-Profit\, Arts & Crafts\, Sports + Fitness. \nStreet Market Show Hours:  \n\nFriday\, 5 – 9 PM\nSaturday\, 10 AM – 7 PM\nSunday\, 10 AM – 4 PM
URL:https://jamesjhilldays.wayzatawestmetrochamber.com/event/street-market-4/
LOCATION:Lake Street Wayzata
ATTACH;FMTTYPE=image/png:https://jamesjhilldays.wayzatawestmetrochamber.com/wp-content/uploads/sites/7/2020/02/street-market.png
END:VEVENT
BEGIN:VEVENT
DTSTART;TZID=UTC:20260913T100000
DTEND;TZID=UTC:20260913T160000
DTSTAMP:20260422T013949
CREATED:20240812T171609Z
LAST-MODIFIED:20250908T145248Z
UID:3104-1789293600-1789315200@jamesjhilldays.wayzatawestmetrochamber.com
SUMMARY:Lake Minnetonka Carnival
DESCRIPTION:Discounted Pre-Sale Carnival Tickets on sale in August. \n\nFull price tickets available September 11-13 at Lunds & Byerlys Wayzata and Carnival Ticket Booth \nStep right up! James J. Hill Days\, Lake Minnetonka’s largest 3 -day Festival\, is right around the corner! One of the best features is the Lake Minnetonka Carnival\, a family favorite\, and rightfully so! This epicenter of fun is filled with a full-blown Ferris Wheel\, ride after thrilling ride\, carnival food and games. \nMEGA ARMBANDS\nFULL WEEKEND PURPLE PASS PRESALE – $80 (NOT AVAILABLE AT TICKET BOOTH) \nADVANCED ARMBANDS\nSINGLE SESSION GOLD PASS PRESALE – $30 ($40 AT TICKET BOOTH) \nSession Times \nFriday: 5 pm-10 pm\nSaturday: 10 am – 4 pm\nSaturday: 4 pm – 10 pm\nSunday: 10 am – 4 pm \n  \nSponsored By\n \n  \n 
URL:https://jamesjhilldays.wayzatawestmetrochamber.com/event/lake-minnetonka-carnival/
LOCATION:Lake Street Wayzata\, MN\, 5539
ATTACH;FMTTYPE=image/png:https://jamesjhilldays.wayzatawestmetrochamber.com/wp-content/uploads/sites/7/2020/02/carnival.png
END:VEVENT
BEGIN:VEVENT
DTSTART;TZID=UTC:20260913T100000
DTEND;TZID=UTC:20260913T160000
DTSTAMP:20260422T013949
CREATED:20240910T164401Z
LAST-MODIFIED:20250908T145214Z
UID:3306-1789293600-1789315200@jamesjhilldays.wayzatawestmetrochamber.com
SUMMARY:Food + Drink
DESCRIPTION:Soak up the sun as you stroll Lake Street and sip on a refreshing glass of wine or ice-cold craft beer from the Beer + Wine tents. Savor delicious eats and enjoy food truck specialties. \n  \n2025 Food Trucks \nAgave Express | @agavekitchen + AgaveKitchen  \nAL CHILIE STREET FOOD | AlChilieStreetFood  \nBad Rooster | @badroostertruck + BadRoosterTruck \nCane + Cotton | @caneandcotton + CaneandCotton \nEggroll Queen | EggRollQueen1 \nFirehouse Foods (Sat + Sun only!) \nMatt’s Bar | Matt’sBar (Fri +Sat only!) \nMN Nice Cream | @mnicecream + MNNiceCream \nMyBurger | @myburgerusa + MyBurgerUSA (Sat + Sun only!) \nNautical Bowls | @NauticalBowls + NauticalBowls \nNorthstar Donuts | @northstardonuts + NorthStarDonuts \nPaella Depot | @paelladepot + PaellaDepot \nPharaohs Gyros | PharaohsGyros \nPhilicious Phillys | PhiliciousPhillys \nRed’s Savoy Pizza | @savoypizza + Red’sSavoyPizza  \nRock Elm Rig | @rockelmrig + RockElmRig \nRocket Ribs and BBQ | @rocketribsandbbq + RocketRibsandBBQ \nRollin Nolens BBQ | @rollinnolensbbqtruck + Rollnolens \nThe Purple People Feeder | @thepurplepeoplefeeder + ThePurplePeopleFeeder \nTommys Z’s Concession  \nZoe’s Gone Bananas | zoesgonebananas + Zoe’sGoneBananas (Sat + Sun only!) \n  \n \nThank You to our Eat Street Sponsor!
URL:https://jamesjhilldays.wayzatawestmetrochamber.com/event/food-drink-3/
LOCATION:Lake Street Wayzata
ATTACH;FMTTYPE=image/jpeg:https://jamesjhilldays.wayzatawestmetrochamber.com/wp-content/uploads/sites/7/2020/02/JJHD-Food-and-Drink.jpg
END:VEVENT
BEGIN:VEVENT
DTSTART;TZID=America/New_York:20260913T100000
DTEND;TZID=America/New_York:20260913T160000
DTSTAMP:20260422T013949
CREATED:20240910T164904Z
LAST-MODIFIED:20250908T145153Z
UID:3310-1789293600-1789315200@jamesjhilldays.wayzatawestmetrochamber.com
SUMMARY:Logrolling
DESCRIPTION:We’re excited to bring fan-favorite logrolling back to James J. Hill Days! \n \nThe rolling pool will be right out on Panoway Plaza. By all means\, bring your rolling attire or swimming suits to try it out throughout all three days of James J. Hill Days. Experienced rollers will be providing instruction and encouragement to any interested participant; they would love to share some of their tips and tricks to stay on or roll their competitors off the log. \n \nWhether new to log rolling or an experienced birler\, we look forward to rolling with you! You can get a quick lesson and hop up on the log and challenge your skills against yourself\, your friends or other rollers: fun will be had by all. \n   \n \nReady\, Steady. Roll.\n  \n        \nSponsored By
URL:https://jamesjhilldays.wayzatawestmetrochamber.com/event/logrolling-3/
LOCATION:Panoway on Wayzata Bay
ATTACH;FMTTYPE=image/png:https://jamesjhilldays.wayzatawestmetrochamber.com/wp-content/uploads/sites/7/2020/02/Untitled-1.png
END:VEVENT
BEGIN:VEVENT
DTSTART;TZID=UTC:20260913T110000
DTEND;TZID=UTC:20260913T140000
DTSTAMP:20260422T013949
CREATED:20240816T165617Z
LAST-MODIFIED:20250908T144829Z
UID:3173-1789297200-1789308000@jamesjhilldays.wayzatawestmetrochamber.com
SUMMARY:Doggy Olympics & Dog Park Activities
DESCRIPTION:James J. Hill Days Dog Park is THE place to be for dog lovers from 10 am – 2 pm both Saturday & Sunday at Panoway Plaza.\nSunday\, September 13 Doggy Olympics | 12:30 – 2 pm | Registration opens at 11 am\nYou and your pup are challenged to join us on Sunday\, September 13 from 12:30 – 2 pm for the JJHD DOGGY OLYMPICS! Looking for a great way to engage\, burn off some energy and have fun with your pup? Games are the best way to do that – they are fun for you and your dog! BYOD (Bring Your Own Dog) and take on the challenge of the WINE GLASS WALK\, the ever-popular MUSICAL BEACH CHAIRS game\, and the ultimate test of focus: our LONGEST SIT-STAY contest. \n\nWine Walk – Holding a wine glass (filled with water)\, you and your dog will walk down and back on the Panoway lawn. The team who makes it back with the most amount of wine in the shortest amount of time wins!\nMusical Beach Chairs – Just like musical chairs\, but with beach towels for your dog to sit on. When the music stops\, your dog must sit on the closest towel (one dog per towel). The last dog sitting on a beach towel is the winner!\nLongest Sit-Stay Contest – All dogs will sit and stay on a beach towel while an increasing number of “distractions” are presented. The dog who holds their sit-stay the longest is the winner!\n\nCompete for fabulous prizes! The winner of each event will go home with an amazing gift from one of our sponsors. \nAvailable to all dog sizes/breeds and their humans! The Doggy Olympics games can be played by any doggo/human team – and it’s FREE to register!  \nDon’t let your pup miss out on the fun!  \n  \nPremier Sponsor of the JJHD Dachshund Races & Doggy Olympics\n \n  \n \n \nMore Fun Happenings at the Dog Park \n\nDog Pack Walks – FREE event! Adventure is Barking is hosting Dog Pack Walks Saturday & Sunday from 10 am – 11 am. Learn more here.\nDer Viener Schlinger – Catch the golden hot dog for a chance to win free hot dogs for a year!\nEnjoy pupperific treats from our sponsors 11 am – 2 pm.\nGet ready for your close-up as you pose for pictures with your pup in the Doggy Kissing Booth at 10 am both Saturday and Sunday.\nWayzata PD K9 Demo with Officer Gehrman and his SAR team on Sunday at 11:30 am. \n\n \nSponsored by\n  \n      \n \n \n \n 
URL:https://jamesjhilldays.wayzatawestmetrochamber.com/event/doggy-olympics/
LOCATION:Panoway on Wayzata Bay
ATTACH;FMTTYPE=image/png:https://jamesjhilldays.wayzatawestmetrochamber.com/wp-content/uploads/sites/7/2024/08/Eventbrite-Cover-images-Facebook-Cover-20.png
END:VEVENT
BEGIN:VEVENT
DTSTART;TZID=UTC:20260913T110000
DTEND;TZID=UTC:20260913T140000
DTSTAMP:20260422T013949
CREATED:20240910T162841Z
LAST-MODIFIED:20250908T144552Z
UID:3293-1789297200-1789308000@jamesjhilldays.wayzatawestmetrochamber.com
SUMMARY:Live Music
DESCRIPTION:FREE entertainment all weekend long on Sandvold Stage located at Minnetonka Avenue and Lake Street!  \n  \n2026 line up to come\n\n \n\n 
URL:https://jamesjhilldays.wayzatawestmetrochamber.com/event/live-music/
LOCATION:Lake Street Wayzata
ATTACH;FMTTYPE=image/jpeg:https://jamesjhilldays.wayzatawestmetrochamber.com/wp-content/uploads/sites/7/2020/02/DPWerks_191.jpg
END:VEVENT
BEGIN:VEVENT
DTSTART;TZID=UTC:20260913T144500
DTEND;TZID=UTC:20260913T150000
DTSTAMP:20260422T013949
CREATED:20200220T013820Z
LAST-MODIFIED:20250908T145107Z
UID:534-1789310700-1789311600@jamesjhilldays.wayzatawestmetrochamber.com
SUMMARY:T-6 Thunder Airshow
DESCRIPTION:LOOK UP! As you line Lake Street for the parade\, don’t forget to turn toward the sky. \nSponsored By\n     
URL:https://jamesjhilldays.wayzatawestmetrochamber.com/event/t-6-thunder-airshow/
LOCATION:Lake Street Wayzata
ATTACH;FMTTYPE=image/png:https://jamesjhilldays.wayzatawestmetrochamber.com/wp-content/uploads/sites/7/2020/02/airplanes.png
END:VEVENT
BEGIN:VEVENT
DTSTART;TZID=UTC:20260913T150000
DTEND;TZID=UTC:20260913T160000
DTSTAMP:20260422T013949
CREATED:20200220T014305Z
LAST-MODIFIED:20250908T145048Z
UID:537-1789311600-1789315200@jamesjhilldays.wayzatawestmetrochamber.com
SUMMARY:Parade
DESCRIPTION:Join us on Lake Street Sunday\, September 13 for this tradition like no other! \n  \n  \n  \n 
URL:https://jamesjhilldays.wayzatawestmetrochamber.com/event/parade/
LOCATION:Lake Street Wayzata
ATTACH;FMTTYPE=image/png:https://jamesjhilldays.wayzatawestmetrochamber.com/wp-content/uploads/sites/7/2020/02/parade.png
END:VEVENT
END:VCALENDAR